Workbook

Sheet BPU
A12: BORDEREAU DES PRIX UNITAIRES (BPU)
A15: MATERIELS / PRESTATIONS | C15: Unités | D15: P.U HT | E15: TVA | F15: P.U TTC
B16: Type ECRAN 1 - 19 Pouces | C16: Unités | F16: =D16+(D16*E16/100) -> 0
B17: Type ECRAN 2 - 25 Pouces | C17: Unités | F17: =D17+(D17*E17/100) -> 0
B18: Ecran Smart TV - 55 pouces | C18: Unités | F18: =D18+(D18*E18/100) -> 0
B19: Visioconference - Petite salle | C19: Unités | F19: =D19+(D19*E19/100) -> 0
B20: Visioconference - Salles Moyenne | C20: Unités | F20: =D20+(D20*E20/100) -> 0
B21: Visioconference - Grande Salles | C21: Unités | F21: =D21+(D21*E21/100) -> 0
B22: Souris Filaire | C22: Unités | F22: =D22+(D22*E22/100) -> 0
B23: Souris Sans Fil | C23: Unités | F23: =D23+(D23*E23/100) -> 0
B24: Casque | C24: Unités | F24: =D24+(D24*E24/100) -> 0
B25: Support Ecran 1 - 2 ecrans 25 pouces | C25: Unités | F25: =D25+(D25*E25/100) -> 0
B26: Support mural ecran 55 pouces - Fixe | C26: Unités | F26: =D26+(D26*E26/100) -> 0
B27: Support mural ecran 55 pouces - Inclinable | C27: Unités | F27: =D27+(D27*E27/100) -> 0
B28: Support mural ecran 55 pouces - Bras articulés | C28: Unités | F28: =D28+(D28*E28/100) -> 0
A34: Fait à | C34: Fait à Sainte Marie
A35: Le | C35: Le
A36: Le titulaire | C36: L'Entité Adjudicatrice

Sheet SCENARIO
A8: SCENARIO NON CONTRACTUEL
B11: MATERIELS / PRESTATIONS | C11: Quantités | D11: P.U HT | E11: P. Total | F11: TVA | G11: P.Total TTC
B12: Type ECRAN 1 - 19 Pouces | C12: 30 | D12: =BPU!D16 -> 0 | E12: =C12*D12 -> 0 | F12: =BPU!E16/100 -> 0 | G12: =E12+(E12*F12) -> 0
B13: Type ECRAN 2 - 25 Pouces | C13: 60 | D13: =BPU!D17 -> 0 | E13: =C13*D13 -> 0 | F13: =BPU!E17/100 -> 0 | G13: =E13+(E13*F13) -> 0
B14: Ecran Smart TV - 55 pouces | C14: 10 | D14: =BPU!D18 -> 0 | E14: =C14*D14 -> 0 | F14: =BPU!E18/100 -> 0 | G14: =E14+(E14*F14) -> 0
B15: Visioconference - Petite salle | C15: 4 | D15: =BPU!D19 -> 0 | E15: =C15*D15 -> 0 | F15: =BPU!E19/100 -> 0 | G15: =E15+(E15*F15) -> 0
B16: Visioconference - Salles Moyenne | C16: 1 | D16: =BPU!D20 -> 0 | E16: =C16*D16 -> 0 | F16: =BPU!E20/100 -> 0 | G16: =E16+(E16*F16) -> 0
B17: Visioconference - Grande Salles | C17: 2 | D17: =BPU!D21 -> 0 | E17: =C17*D17 -> 0 | F17: =BPU!E21/100 -> 0 | G17: =E17+(E17*F17) -> 0
B18: Souris Filaire | C18: 30 | D18: =BPU!D22 -> 0 | E18: =C18*D18 -> 0 | F18: =BPU!E22/100 -> 0 | G18: =E18+(E18*F18) -> 0
B19: Souris Sans Fil | C19: 30 | D19: =BPU!D23 -> 0 | E19: =C19*D19 -> 0 | F19: =BPU!E23/100 -> 0 | G19: =E19+(E19*F19) -> 0
B20: Casque | C20: 30 | D20: =BPU!D24 -> 0 | E20: =C20*D20 -> 0 | F20: =BPU!E24/100 -> 0 | G20: =E20+(E20*F20) -> 0
B21: Support Ecran 1 - 2 ecrans 25 pouces | C21: 15 | D21: =BPU!D25 -> 0 | E21: =C21*D21 -> 0 | F21: =BPU!E25/100 -> 0 | G21: =E21+(E21*F21) -> 0
B22: Support mural ecran 55 pouces - Fixe | C22: 5 | D22: =BPU!D26 -> 0 | E22: =C22*D22 -> 0 | F22: =BPU!E26/100 -> 0 | G22: =E22+(E22*F22) -> 0
B23: Support mural ecran 55 pouces - Inclinable | C23: 5 | D23: =BPU!D27 -> 0 | E23: =C23*D23 -> 0 | F23: =BPU!E27/100 -> 0 | G23: =E23+(E23*F23) -> 0
B24: Support mural ecran 55 pouces - Bras articulés | C24: 5 | D24: =BPU!D28 -> 0 | E24: =C24*D24 -> 0 | F24: =BPU!E28/100 -> 0 | G24: =E24+(E24*F24) -> 0
B27: Coût total du scénario sur 4 ans | E27: =SUM(E12:E25) -> 0 | G27: =SUM(G12:G26) -> 0
A29: Fait à
A30: Le
A31: Le titulaire
