Workbook

Sheet BPU
A12: BORDEREAU DES PRIX UNITAIRES (BPU)
A15: MATERIELS / PRESTATIONS | C15: Unités | D15: P.U HT | E15: TVA | F15: P.U TTC
B16: Micro-ordinateur portable - Modèle 1 | C16: Unités | F16: =D16+(D16*E16/100) -> 0
B17: Micro-ordinateur portable - Modèle 2 | C17: Unités | F17: =D17+(D17*E17/100) -> 0
B18: Station d'accueil pour portable modèle 1 | C18: Unités | F18: =D18+(D18*E18/100) -> 0
B19: Station d'accueil pour portable modèle 2 | C19: Unités | F19: =D19+(D19*E19/100) -> 0
B20: Alimentation supplémentaire pour portable modèle 1 | C20: Unités | F20: =D20+(D20*E20/100) -> 0
B21: Alimentation supplémentaire pour portable modèle 2 | C21: Unités | F21: =D21+(D21*E21/100) -> 0
A27: Fait à | C27: Fait à Sainte Marie
A28: Le | C28: Le
A29: Le titulaire | C29: L'Entité Adjudicatrice

Sheet SCENARIO
A8: SCENARIO NON CONTRACTUEL
B11: MATERIELS / PRESTATIONS | C11: Quantités | D11: P.U HT | E11: P. Total | F11: TVA | G11: P.Total TTC
B12: =BPU!B16 -> Micro-ordinateur portable - Modèle 1 | C12: 40 | D12: =BPU!D16 -> 0 | E12: =D12*C12 -> 0 | F12: =BPU!E16/100 -> 0 | G12: =E12+(E12*F12) -> 0
B13: =BPU!B17 -> Micro-ordinateur portable - Modèle 2 | C13: 250 | D13: =BPU!D17 -> 0 | E13: =D13*C13 -> 0 | F13: =BPU!E17/100 -> 0 | G13: =E13+(E13*F13) -> 0
B14: =BPU!B18 -> Station d'accueil pour portable modèle 1 | C14: 40 | D14: =BPU!D18 -> 0 | E14: =D14*C14 -> 0 | F14: =BPU!E18/100 -> 0 | G14: =E14+(E14*F14) -> 0
B15: =BPU!B19 -> Station d'accueil pour portable modèle 2 | C15: 250 | D15: =BPU!D19 -> 0 | E15: =D15*C15 -> 0 | F15: =BPU!E19/100 -> 0 | G15: =E15+(E15*F15) -> 0
B16: =BPU!B20 -> Alimentation supplémentaire pour portable modèle 1 | C16: 2 | D16: =BPU!D20 -> 0 | E16: =D16*C16 -> 0 | F16: =BPU!E20/100 -> 0 | G16: =E16+(E16*F16) -> 0
B17: =BPU!B21 -> Alimentation supplémentaire pour portable modèle 2 | C17: 10 | D17: =BPU!D21 -> 0 | E17: =D17*C17 -> 0 | F17: =BPU!E21/100 -> 0 | G17: =E17+(E17*F17) -> 0
B20: Coût total du scénario sur 4 ans | E20: =SUM(E12:E18) -> 0 | G20: =SUM(G12:G19) -> 0
A22: Fait à
A23: Le
A24: Le titulaire
